BEGIN:VCALENDAR
VERSION:2.0
PRODID:-//International Society of Agromatics (ISAM) - ECPv6.10.1//NONSGML v1.0//EN
CALSCALE:GREGORIAN
METHOD:PUBLISH
X-ORIGINAL-URL:http://agromatics.org
X-WR-CALDESC:Events for International Society of Agromatics (ISAM)
REFRESH-INTERVAL;VALUE=DURATION:PT1H
X-Robots-Tag:noindex
X-PUBLISHED-TTL:PT1H
BEGIN:VTIMEZONE
TZID:America/New_York
BEGIN:DAYLIGHT
TZOFFSETFROM:-0500
TZOFFSETTO:-0400
TZNAME:EDT
DTSTART:20250309T070000
END:DAYLIGHT
BEGIN:STANDARD
TZOFFSETFROM:-0400
TZOFFSETTO:-0500
TZNAME:EST
DTSTART:20251102T060000
END:STANDARD
END:VTIMEZONE
BEGIN:VEVENT
DTSTART;TZID=America/New_York:20250310T090000
DTEND;TZID=America/New_York:20250310T220000
DTSTAMP:20260425T084759
CREATED:20250307T151529Z
LAST-MODIFIED:20250307T151529Z
UID:598-1741597200-1741644000@agromatics.org
SUMMARY:ISAM Webinar Series (3/10/2025): Climate-Smart Agricultural Practices Through Modeling & Remote Sensing
DESCRIPTION:Dear Colleagues\, \n\nInternational Society of Agromatics (ISAM) is pleased to invite you to the Webinar “Climate-Smart Agricultural Practices Through Modeling & Remote Sensing” by Prof. Dr. Wajid Nasim Jatoi on 10th of March 2025 (9:00 New York\, 14:00 London\, 17:00 İstanbul\, 22:00 Beijing). You may find the Zoom links of the webinar below. \nZoom (11th November 2024): https://us06web.zoom.us/j/87164546915?pwd=zDQdCkxrHzYxkYUsqpVQhNcYSlFEvg.1
URL:http://agromatics.org/event/isam-webinar-series-3-10-2025-climate-smart-agricultural-practices-through-modeling-remote-sensing/
END:VEVENT
END:VCALENDAR