BEGIN:VCALENDAR
VERSION:2.0
PRODID:-//International Society of Agromatics (ISAM) - ECPv6.10.1//NONSGML v1.0//EN
CALSCALE:GREGORIAN
METHOD:PUBLISH
X-ORIGINAL-URL:http://agromatics.org
X-WR-CALDESC:Events for International Society of Agromatics (ISAM)
REFRESH-INTERVAL;VALUE=DURATION:PT1H
X-Robots-Tag:noindex
X-PUBLISHED-TTL:PT1H
BEGIN:VTIMEZONE
TZID:America/New_York
BEGIN:DAYLIGHT
TZOFFSETFROM:-0500
TZOFFSETTO:-0400
TZNAME:EDT
DTSTART:20240310T070000
END:DAYLIGHT
BEGIN:STANDARD
TZOFFSETFROM:-0400
TZOFFSETTO:-0500
TZNAME:EST
DTSTART:20241103T060000
END:STANDARD
END:VTIMEZONE
BEGIN:VEVENT
DTSTART;TZID=America/New_York:20240513T100000
DTEND;TZID=America/New_York:20240513T230000
DTSTAMP:20260425T100125
CREATED:20240506T142135Z
LAST-MODIFIED:20240506T142205Z
UID:579-1715594400-1715641200@agromatics.org
SUMMARY:Webinar series: Soil Moisture Data and Vegetation Indices for Crop Growth Condition Monitoring & Application Tool – Crop-CASMA
DESCRIPTION:Dear Colleagues\, \n  \nInternational Society of Agromatics (ISAM) is pleased to invite you to the Webinar “Soil Moisture Data and Vegetation Indices for Crop Growth Condition Monitoring & Application Tool – Crop-CASMA” by Dr. Zhengwei Yang on 13th of May 2024 (10:00 New York\, 15:00 London\, 17:00 İstanbul\, 22:00 Beijing). You may find the Zoom and Youtube links of the webinar below. \n                         \nhttps://agromatics.org/event/webinar-series-8/ \n \n 
URL:http://agromatics.org/event/webinar-series-8/
END:VEVENT
END:VCALENDAR