BEGIN:VCALENDAR
VERSION:2.0
PRODID:-//International Society of Agromatics (ISAM) - ECPv6.10.1//NONSGML v1.0//EN
CALSCALE:GREGORIAN
METHOD:PUBLISH
X-WR-CALNAME:International Society of Agromatics (ISAM)
X-ORIGINAL-URL:http://agromatics.org
X-WR-CALDESC:Events for International Society of Agromatics (ISAM)
REFRESH-INTERVAL;VALUE=DURATION:PT1H
X-Robots-Tag:noindex
X-PUBLISHED-TTL:PT1H
BEGIN:VTIMEZONE
TZID:America/New_York
BEGIN:DAYLIGHT
TZOFFSETFROM:-0500
TZOFFSETTO:-0400
TZNAME:EDT
DTSTART:20260308T070000
END:DAYLIGHT
BEGIN:STANDARD
TZOFFSETFROM:-0400
TZOFFSETTO:-0500
TZNAME:EST
DTSTART:20261101T060000
END:STANDARD
END:VTIMEZONE
BEGIN:VEVENT
DTSTART;TZID=America/New_York:20260119T090000
DTEND;TZID=America/New_York:20260119T100000
DTSTAMP:20260424T073806
CREATED:20260113T155251Z
LAST-MODIFIED:20260113T155251Z
UID:608-1768813200-1768816800@agromatics.org
SUMMARY:ISAM Webinar series (1/19/2026): Advances in Crop System Modeling: DSSAT Evolution and Climate-Smart Agricultural Applications
DESCRIPTION:International Society of Agromatics (ISAM) is pleased to invite you to the Webinar “Advances in Crop System Modeling: DSSAT Evolution and Climate-Smart Agricultural Applications” by Prof. Gerrit Hoogenboom (DSSAT Coordinator) on 19th of January 2026 (9:00 New York\, 14:00 London\, 17:00 İstanbul\, 22:00 Beijing). You may find the Zoom and Youtube links of the webinar below. \n  \nZoom (19th January 2026): \nhttps://us06web.zoom.us/j/87537455945?pwd=t7NjxqwuXbLFBegzSQjYlEYDguQFar.1 \n9:00 New York/ET \n14:00 London \n17:00 İstanbul \n22:00 Beijing
URL:http://agromatics.org/event/isam-webinar-series-1-19-2026-advances-in-crop-system-modeling-dssat-evolution-and-climate-smart-agricultural-applications/
END:VEVENT
END:VCALENDAR